BEGIN:VCALENDAR
VERSION:2.0
PRODID:-//ChamberMaster//Event Calendar 2.0//EN
METHOD:PUBLISH
X-PUBLISHED-TTL:P3D
REFRESH-INTERVAL:P3D
CALSCALE:GREGORIAN
BEGIN:VEVENT
DTSTART:20170419T163000Z
DTEND:20170419T170000Z
X-MICROSOFT-CDO-ALLDAYEVENT:FALSE
SUMMARY:MRC Landscape Architecture Ribbon Cutting Ceremony
DESCRIPTION:MRC Landscape Architecture will celebrate their new business in Oxford with a  Ribbon Cutting Ceremony hosted by the Oxford-Lafayette County Chamber. MRC Landscape Architecture offers a complete range of land planning  and landscape architecture services including conceptual design\, design development\, and construction documentation preparation for a broad range of project types such as residential and commercial development master planning\, site design\, amenity design\, parks and recreation design\, streetscape design\, greenspace design\, irrigation design\, and landscape design.
X-ALT-DESC;FMTTYPE=text/html:MRC Landscape&nbsp\;Architecture&nbsp\;will celebrate their&nbsp\;new business in Oxford with&nbsp\;a&nbsp\;&nbsp\;Ribbon Cutting Ceremony hosted by the Oxford-Lafayette County Chamber. MRC Landscape&nbsp\;Architecture&nbsp\;offers a complete range of&nbsp\;land planning&nbsp\;&nbsp\;and landscape architecture services including conceptual design\, design development\, and construction documentation preparation for a broad range of project types such as residential and commercial development master planning\, site design\, amenity design\, parks and recreation design\, streetscape design\,&nbsp\;greenspace&nbsp\;design\, irrigation design\, and landscape design.
LOCATION:The Baker Building 440 North Lamar Boulevard\, Suite 4\, Oxford
UID:e.1330.1510
SEQUENCE:3
DTSTAMP:20260426T041614Z
URL:https://business.oxfordms.com/events/details/mrc-landscape-architecture-ribbon-cutting-ceremony-04-19-2017-1510
END:VEVENT

END:VCALENDAR
