BEGIN:VCALENDAR
VERSION:2.0
PRODID:-//ChamberMaster//Event Calendar 2.0//EN
METHOD:PUBLISH
X-PUBLISHED-TTL:P3D
REFRESH-INTERVAL:P3D
CALSCALE:GREGORIAN
BEGIN:VEVENT
DTSTART:20190228T160000Z
DTEND:20190228T180000Z
X-MICROSOFT-CDO-ALLDAYEVENT:FALSE
SUMMARY:MTK Camp Kamassa Air Drop Invitation
DESCRIPTION:Mississippi's Toughest Kids Foundation (MTK) is building Camp Kamassa\, Mississippi's first year-round fully handicap accessible camp facility for children and adults with serious illnesses\, physical and mental challenges\, and other special needs.  MTK has partnered with the Department of Defense's Innovative Readiness Training (IRT) Program.  The IRT partners with communities on projects that build military readiness for deployments.  The IRT is assisting with labor for the construction of Camp Kamassa in return for military training opportunities.  The Air Force Reserves have taken the lead on the project. It's a win win for MTK and the IRT!   In preparation for the work the IRT will be doing in 2019\, we are planning an Air Drop of the tool kits to the troops.  A MSARNG Chinook aircraft will drop the massive tool kits onto the Camp Kamassa construction sight as spectators look on. It will be a spectacular event!
X-ALT-DESC;FMTTYPE=text/html:Mississippi&#39\;s Toughest Kids Foundation (MTK) is building Camp Kamassa\, Mississippi&#39\;s first year-round fully handicap accessible camp facility for children and adults with serious illnesses\, physical and mental challenges\, and other special needs.&nbsp\; MTK has partnered with the Department of Defense&#39\;s Innovative Readiness Training (IRT) Program.&nbsp\; The IRT partners with communities on projects that build military readiness for deployments.&nbsp\; The IRT is assisting with labor for the construction of Camp Kamassa in return for military training opportunities.&nbsp\; The Air Force Reserves have taken the lead on the project. It&#39\;s a win win for MTK and the IRT!&nbsp\; &nbsp\;In preparation for the work the IRT will be doing in 2019\, we are planning an Air Drop of the tool kits to&nbsp\;the troops.&nbsp\; A MSARNG Chinook aircraft will drop the massive tool kits onto the Camp Kamassa construction sight as spectators look on. It will be a spectacular event!
LOCATION:Camp Kamassa Construction site 4002 Sumrall Rd Crystal Springs\, MS 39059
UID:e.1330.3084
SEQUENCE:3
DTSTAMP:20260424T162132Z
URL:https://business.oxfordms.com/events/details/mtk-camp-kamassa-air-drop-invitation-02-28-2019-3084
END:VEVENT

END:VCALENDAR
