BEGIN:VCALENDAR
VERSION:2.0
PRODID:-//ChamberMaster//Event Calendar 2.0//EN
METHOD:PUBLISH
X-PUBLISHED-TTL:P3D
REFRESH-INTERVAL:P3D
CALSCALE:GREGORIAN
BEGIN:VEVENT
DTSTART;VALUE=DATE:20180416
DTEND;VALUE=DATE:20180423
TRANSP:TRANSPARENT
X-MICROSOFT-CDO-ALLDAYEVENT:TRUE
SUMMARY:North Mississippi Classic
DESCRIPTION:The Country Club of Oxford will host the North Mississippi Classic April 16-22 with 156 players competing for a $550\,000 purse. The North Mississippi Classic will be the third PGA TOUR-sanctioned event to be held annually in Mississippi\, joining the PGA TOUR's Sanderson Farms Championship and the Mississippi Gulf Resort Classic on PGA TOUR Champions. Mississippi is one of only five states to host an annual tournament on all three tours\, with California\, Florida\, Georgia\, and North Carolina rounding out the list.
X-ALT-DESC;FMTTYPE=text/html:<h3><span style="font-family: times new roman\;"><span style="font-size: 17px\;">The Country Club of Oxford will host the North Mississippi Classic April 16-22 with 156 players competing for a $550\,000 purse. The North Mississippi Classic will be the third PGA TOUR-sanctioned event to be held annually in Mississippi\, joining the PGA TOUR&rsquo\;s Sanderson Farms Championship and the Mississippi Gulf Resort Classic on PGA TOUR Champions. Mississippi is one of only five states to host an annual tournament on all three tours\, with California\, Florida\, Georgia\, and North Carolina rounding out the list.</span></span></h3>\n
LOCATION:Country Club of Oxford
UID:e.1330.1869
SEQUENCE:3
DTSTAMP:20260425T104139Z
URL:https://business.oxfordms.com/events/details/north-mississippi-classic-04-16-2018-1869
END:VEVENT

END:VCALENDAR
