BEGIN:VCALENDAR
VERSION:2.0
PRODID:-//ChamberMaster//Event Calendar 2.0//EN
METHOD:PUBLISH
X-PUBLISHED-TTL:P3D
REFRESH-INTERVAL:P3D
CALSCALE:GREGORIAN
BEGIN:VEVENT
DTSTART:20230927T180000Z
DTEND:20230927T183000Z
X-MICROSOFT-CDO-ALLDAYEVENT:FALSE
SUMMARY:North MS Exchange Family Center Diaper Bank Ribbon Cutting Ceremony
DESCRIPTION:The North MS Exchange Center - Diaper Bank invites you to attend their Ribbon Cutting Ceremony\, hosted by the Oxford-Lafayette County Chamber of Commerce.
X-ALT-DESC;FMTTYPE=text/html:The North MS Exchange Center - Diaper Bank invites you to attend their Ribbon Cutting Ceremony\, hosted by the Oxford-Lafayette County Chamber of Commerce.
LOCATION:1558 Skyline Drive\, behind Stout Carpet and Flooring
UID:e.1330.4572
SEQUENCE:3
DTSTAMP:20260422T101344Z
URL:https://business.oxfordms.com/events/details/north-ms-exchange-family-center-diaper-bank-ribbon-cutting-ceremony-4572
END:VEVENT

END:VCALENDAR
