BEGIN:VCALENDAR
VERSION:2.0
PRODID:-//ChamberMaster//Event Calendar 2.0//EN
METHOD:PUBLISH
X-PUBLISHED-TTL:P3D
REFRESH-INTERVAL:P3D
CALSCALE:GREGORIAN
BEGIN:VEVENT
DTSTART:20200203T173000Z
DTEND:20200203T180000Z
X-MICROSOFT-CDO-ALLDAYEVENT:FALSE
SUMMARY:Oxford Afloat Ribbon Cutting Ceremony
DESCRIPTION:Oxford Afloat will celebrate their new business in Oxford with a Ribbon Cutting Ceremony hosted by the Oxford-Lafayette County Chamber. Float therapy is a powerful tool for wellness\, relaxation\, pain relief and better sleep. As with any therapy\, with regular use its benefits are enhanced. Stress\, Tension and pain have formed over time and will take some time to experience the greatest relief-luckily\, floating is a relaxing\, fun\, and effortless way to do so!
X-ALT-DESC;FMTTYPE=text/html:Oxford Afloat will celebrate their&nbsp\;new business&nbsp\;in Oxford with a&nbsp\;Ribbon Cutting Ceremony hosted by the Oxford-Lafayette County Chamber. Float therapy is a powerful tool for wellness\, relaxation\, pain relief and better sleep. As with any therapy\, with regular use its benefits are enhanced. Stress\, Tension and pain have formed over time and will take some time to experience the greatest relief-luckily\, floating is a relaxing\, fun\, and effortless way to do so!<br />\n&nbsp\;
LOCATION:609 S. 16th Street\, Oxford\, MS
UID:e.1330.3170
SEQUENCE:3
DTSTAMP:20260423T223413Z
URL:https://business.oxfordms.com/events/details/oxford-afloat-ribbon-cutting-ceremony-02-03-2020-3170
END:VEVENT

END:VCALENDAR
