BEGIN:VCALENDAR
VERSION:2.0
PRODID:-//ChamberMaster//Event Calendar 2.0//EN
METHOD:PUBLISH
X-PUBLISHED-TTL:P3D
REFRESH-INTERVAL:P3D
CALSCALE:GREGORIAN
BEGIN:VEVENT
DTSTART;VALUE=DATE:20220503
DTEND;VALUE=DATE:20220628
TRANSP:TRANSPARENT
X-MICROSOFT-CDO-ALLDAYEVENT:TRUE
SUMMARY:Oxford Artists' Guild Summer Show
DESCRIPTION:Members of the Oxford Artists' Guild are exhibiting now through June 27th at the OPC Activity Center.  Over 40 original art works of various media are on display and are available to purchase.\n\n \nMembers participating in the show are Suzanne Talbort\, Rosie Vassallo\, Lynn Wells\, Rufus Ross\, Susan Rose\, Ruth Ann Locke\, Don Locke\, Debbie Myers\, Pam Locke\, Katherine Adams\, Carol Smith\, Ashley Brewer\, Nancy Mitchell\, Vicki Whitehead\, Lori Blaylock\, Linda Peters\, Tammy Oliver Cook\, Ed Tropp\, and Andi Bedsworth.
X-ALT-DESC;FMTTYPE=text/html:<div>Members of the Oxford Artists&#39\; Guild are exhibiting now through June 27th at the OPC Activity Center.&nbsp\; Over 40 original art works of various media are on display and are available to purchase.<br />\n&nbsp\;</div>\nMembers participating in the show are Suzanne Talbort\, Rosie Vassallo\, Lynn Wells\, Rufus Ross\, Susan Rose\, Ruth Ann Locke\, Don Locke\, Debbie Myers\, Pam Locke\, Katherine Adams\, Carol Smith\, Ashley Brewer\, Nancy Mitchell\, Vicki Whitehead\, Lori Blaylock\, Linda Peters\, Tammy Oliver Cook\, Ed Tropp\, and Andi Bedsworth.
LOCATION:Oxford Park Commission Activity Center
UID:e.1330.4168
SEQUENCE:3
DTSTAMP:20260421T114123Z
URL:https://business.oxfordms.com/events/details/oxford-artists-guild-summer-show-4168
END:VEVENT

END:VCALENDAR
