BEGIN:VCALENDAR
VERSION:2.0
PRODID:-//ChamberMaster//Event Calendar 2.0//EN
METHOD:PUBLISH
X-PUBLISHED-TTL:P3D
REFRESH-INTERVAL:P3D
CALSCALE:GREGORIAN
BEGIN:VEVENT
DTSTART:20190430T200000Z
DTEND:20190430T203000Z
X-MICROSOFT-CDO-ALLDAYEVENT:FALSE
SUMMARY:Oxford Community Market Ribbon Cutting Ceremony
DESCRIPTION:The Oxford Community Market is celebrating the new season with a  Ribbon Cutting Ceremony hosted by the Oxford-Lafayette County Chamber.\n\n\n\nOxford Community Market is a weekly Mississippi Certified Farmers Market with a mission to make healthy\, local food more accessible to all people in our community\, especially those facing barriers of cost and transportation.
X-ALT-DESC;FMTTYPE=text/html:The Oxford Community Market&nbsp\;is celebrating&nbsp\;the new season with a &nbsp\;Ribbon Cutting Ceremony hosted by the Oxford-Lafayette County Chamber.<br />\n<br />\n<span style="font-size: 12px\;"><span style="font-family: arial\;"><font color="#1a1a1a" style="background-color: rgb(251\, 251\, 244)\;">Oxford Community Market is a weekly Mississippi Certified Farmers Market with a mission to make healthy\, local food more accessible to all people in our community\, especially those facing barriers of cost and transportation.&nbsp\;</font><br />\n&nbsp\;</span></span>
LOCATION:Old Armory Pavilion\, 1801 University Ave.
UID:e.1330.3110
SEQUENCE:3
DTSTAMP:20260424T122630Z
URL:https://business.oxfordms.com/events/details/oxford-community-market-ribbon-cutting-ceremony-04-30-2019-3110
END:VEVENT

END:VCALENDAR
