BEGIN:VCALENDAR
VERSION:2.0
PRODID:-//ChamberMaster//Event Calendar 2.0//EN
METHOD:PUBLISH
X-PUBLISHED-TTL:P3D
REFRESH-INTERVAL:P3D
CALSCALE:GREGORIAN
BEGIN:VEVENT
DTSTART:20180724T210000Z
DTEND:20180724T213000Z
X-MICROSOFT-CDO-ALLDAYEVENT:FALSE
SUMMARY:Oxford Hand and Upper Extremity Clinic Ribbon Cutting Ceremony
DESCRIPTION:Oxford Hand and Upper Extremity Clinic will celebrate their new business in Oxford with a Ribbon Cutting Ceremony hosted by the Oxford-Lafayette County Chamber.Oxford Hand and Upper Extremity Clinic is a private\, therapist-owned outpatient clinic. We treat conditions and injuries of the hand\, wrist\, elbow\, and shoulder. Special services include dry needling\, instrument-assisted soft tissue massage\, functional capacity evaluation testing\, and other employment testing.
X-ALT-DESC;FMTTYPE=text/html:Oxford Hand and Upper Extremity Clinic will celebrate their&nbsp\;new business&nbsp\;in Oxford with a&nbsp\;Ribbon Cutting Ceremony hosted by the Oxford-Lafayette County Chamber.Oxford Hand and Upper Extremity Clinic is a private\, therapist-owned outpatient clinic. We treat conditions and injuries of the hand\, wrist\, elbow\, and shoulder. Special services include dry needling\, instrument-assisted soft tissue massage\, functional capacity evaluation testing\, and other employment testing.
LOCATION:1204 Office Park Ste. C
UID:e.1330.1888
SEQUENCE:3
DTSTAMP:20260425T035447Z
URL:https://business.oxfordms.com/events/details/oxford-hand-and-upper-extremity-clinic-ribbon-cutting-ceremony-07-24-2018-1888
END:VEVENT

END:VCALENDAR
