BEGIN:VCALENDAR
VERSION:2.0
PRODID:-//ChamberMaster//Event Calendar 2.0//EN
METHOD:PUBLISH
X-PUBLISHED-TTL:P3D
REFRESH-INTERVAL:P3D
CALSCALE:GREGORIAN
BEGIN:VEVENT
DTSTART:20190904T190000Z
DTEND:20190904T220000Z
X-MICROSOFT-CDO-ALLDAYEVENT:FALSE
SUMMARY:Oxford House of Music
DESCRIPTION:Oxford House of Music invites you to attend their Open House hosted by the Oxford-Lafayette County Chamber of Commerce. If you're looking for a place to begin or you need to hone your skills as a musician\, Oxford House of Music is here for you. They provide music lessons for Oxford\, MS and the surrounding communities for piano\, guitar\, bass\, mandolin\, banjo\, dobro\, violin\, and voice. They also have a recording studio and repair instruments and amps. Call them today\, (662) 234-4553\, to find out more.
X-ALT-DESC;FMTTYPE=text/html:Oxford House of Music invites you to attend their Open House hosted by the Oxford-Lafayette County Chamber of Commerce.&nbsp\;<span style="font-size:12px\;"><span style="font-family:arial\;"><span style="caret-color: rgb(28\, 30\, 33)\; color: rgb(28\, 30\, 33)\; white-space: pre-wrap\; background-color: rgb(255\, 255\, 255)\;">If you&rsquo\;re looking for a place to begin or you need to hone your skills as a musician\, Oxford House of Music is here for you. They provide music lessons for Oxford\, MS and the surrounding communities for piano\, guitar\, bass\, mandolin\, banjo\, dobro\, violin\, and voice. They also have a recording studio and repair instruments and amps. Call them today\, (662) 234-4553\, to find out more.</span></span></span>
LOCATION:305 Heritage Drive\, Oxford
UID:e.1330.3124
SEQUENCE:3
DTSTAMP:20260424T035711Z
URL:https://business.oxfordms.com/events/details/oxford-house-of-music-09-04-2019-3124
END:VEVENT

END:VCALENDAR
