BEGIN:VCALENDAR
VERSION:2.0
PRODID:-//ChamberMaster//Event Calendar 2.0//EN
METHOD:PUBLISH
X-PUBLISHED-TTL:P3D
REFRESH-INTERVAL:P3D
CALSCALE:GREGORIAN
BEGIN:VEVENT
DTSTART:20170810T163000Z
DTEND:20170810T170000Z
X-MICROSOFT-CDO-ALLDAYEVENT:FALSE
SUMMARY:Oxford Treatment Center Ribbon Cutting Ceremony
DESCRIPTION:Join us as we celebrate the opening of Oxford Treatment Center with a Ribbon Cutting Ceremony.  Michael Cartwright\, CEO of American Addiction Centers\, will speak about the company's commitment to the community. Tours offered of the new outpatient office and Resolutions transitional housing for those in early recovery. Their goal is to give you the tools you need to live a healthy life\, free from dependence on drugs and alcohol. As with any chronic disease\, there is no "cure" for addiction. Overcoming dependence requires lifelong discipline and an ability to see beyond the struggles you face. Their role is to show you the way and offer the support you need for successful recovery. The recovery process begins as we work with you to understand your unique needs and match them with the broad range of services we offer.
X-ALT-DESC;FMTTYPE=text/html:<span style="font-size:12px\;">Join us as we celebrate the&nbsp\;opening of Oxford Treatment Center with a Ribbon Cutting Ceremony. </span> Michael Cartwright\, CEO of American Addiction Centers\, will speak about the company&#39\;s commitment to the community. Tours offered of the new outpatient office and Resolutions transitional housing for those in early recovery. <span style="font-size:12px\;"><span style="color: rgb(10\, 10\, 10)\; font-family: &quot\;Open Sans&quot\;\,&quot\;Helvetica Neue&quot\;\,Helvetica\,Arial\,sans-serif\; font-style: normal\; font-variant-ligatures: normal\; font-variant-caps: normal\; font-weight: 300\; letter-spacing: normal\; text-align: start\; text-indent: 0px\; text-transform: none\; white-space: normal\; word-spacing: 0px\; -webkit-text-stroke-width: 0px\; background-color: rgb(254\, 254\, 254)\; text-decoration-style: initial\; text-decoration-color: initial\; display: inline !important\; float: none\;">Their goal is to give you the tools you need to live a healthy life\, free from dependence on drugs and alcohol. As with any chronic disease\, there is no &ldquo\;cure&rdquo\; for addiction. Overcoming dependence requires lifelong discipline and an ability to see beyond the struggles you face. Their role is to show you the way and offer the support you need for successful recovery. The recovery process begins as we work with you to understand your unique needs and match them with the broad range of services we offer.</span></span>
LOCATION:611 Commerce Parkway Oxford\, MS
UID:e.1330.1784
SEQUENCE:3
DTSTAMP:20260425T215724Z
URL:https://business.oxfordms.com/events/details/oxford-treatment-center-ribbon-cutting-ceremony-08-10-2017-1784
END:VEVENT

END:VCALENDAR
