BEGIN:VCALENDAR
VERSION:2.0
PRODID:-//ChamberMaster//Event Calendar 2.0//EN
METHOD:PUBLISH
X-PUBLISHED-TTL:P3D
REFRESH-INTERVAL:P3D
CALSCALE:GREGORIAN
BEGIN:VEVENT
DTSTART:20171027T223000Z
DTEND:20171028T003000Z
X-MICROSOFT-CDO-ALLDAYEVENT:FALSE
SUMMARY:Oxford University School Halloween Carnival
DESCRIPTION:Oxford University School presents a fun Halloween Carnival featuring a Costume Contest\, Cake Walk\, Potty Toss\, Airplane Train Ride plus a Fortune Teller as well as Hot Dogs\, Cotton Candy and Popcorn. Bring the kids and their friends!
X-ALT-DESC;FMTTYPE=text/html:<p><span style="font-size: 11px\;">Oxford University School presents a fun Halloween Carnival featuring a Costume Contest\, Cake Walk\, Potty Toss\, Airplane Train Ride plus a Fortune Teller as well as Hot Dogs\,&nbsp\;Cotton Candy and Popcorn. Bring the kids and their friends!</span></p>\n
LOCATION:200 OUS Drive Oxford\, MS 38655
UID:e.1330.1793
SEQUENCE:3
DTSTAMP:20260425T184035Z
URL:https://business.oxfordms.com/events/details/oxford-university-school-halloween-carnival-10-27-2017-1793
END:VEVENT

END:VCALENDAR
