BEGIN:VCALENDAR
VERSION:2.0
PRODID:-//ChamberMaster//Event Calendar 2.0//EN
METHOD:PUBLISH
X-PUBLISHED-TTL:P3D
REFRESH-INTERVAL:P3D
CALSCALE:GREGORIAN
BEGIN:VEVENT
DTSTART:20180830T153000Z
DTEND:20180830T180000Z
X-MICROSOFT-CDO-ALLDAYEVENT:FALSE
SUMMARY:Part-Time Job and Internship Fair
DESCRIPTION:The University of Mississippi Career Center and the Ole Miss Business School cordially invites you to participate in our annual Part-time Job & Internship Fair on Thursday\, August 30\, 2018\, from 10:30 a.m. to 1:00 p.m.\, at the Gertrude C. Ford Ballroom in The Inn at Ole Miss. This event will host numerous employers/agencies to promote their part-time jobs and internships to Ole Miss students. Registration is free for employers and students.
X-ALT-DESC;FMTTYPE=text/html:The University of Mississippi Career Center and the Ole Miss Business School cordially invites you to participate in our annual Part-time Job &amp\; Internship Fair on Thursday\, August 30\, 2018\, from 10:30 a.m. to 1:00 p.m.\, at the Gertrude C. Ford Ballroom in The Inn at Ole Miss. This event will host numerous employers/agencies to promote their part-time jobs and internships to Ole Miss students. Registration is free for employers and students.
LOCATION:Gertrude C. Ford Ballroom\, The Inn at Ole Miss
UID:e.1330.1895
SEQUENCE:3
DTSTAMP:20260425T035156Z
URL:https://business.oxfordms.com/events/details/part-time-job-and-internship-fair-08-30-2018-1895
END:VEVENT

END:VCALENDAR
