BEGIN:VCALENDAR
VERSION:2.0
PRODID:-//ChamberMaster//Event Calendar 2.0//EN
METHOD:PUBLISH
X-PUBLISHED-TTL:P3D
REFRESH-INTERVAL:P3D
CALSCALE:GREGORIAN
BEGIN:VEVENT
DTSTART:20190615T220000Z
DTEND:20190616T020000Z
X-MICROSOFT-CDO-ALLDAYEVENT:FALSE
SUMMARY:Pet Fest
DESCRIPTION:A pet film fest to help raise fund for MS Critterz and Oxford Film festival. We will be having fur family fun starting at 5. Pet red carpet photos\, paint paw print art\, and much more. Pet video block to start at 7.
X-ALT-DESC;FMTTYPE=text/html:A pet film fest to help raise fund for MS Critterz and Oxford Film festival. We will be having fur family fun starting at 5. Pet red carpet photos\, paint paw print art\, and much more. Pet video block to start at 7.
LOCATION:Old Armory Pavilion
UID:e.1330.3106
SEQUENCE:3
DTSTAMP:20260424T100101Z
URL:https://business.oxfordms.com/events/details/pet-fest-06-15-2019-3106
END:VEVENT

END:VCALENDAR
