BEGIN:VCALENDAR
VERSION:2.0
PRODID:-//ChamberMaster//Event Calendar 2.0//EN
METHOD:PUBLISH
X-PUBLISHED-TTL:P3D
REFRESH-INTERVAL:P3D
CALSCALE:GREGORIAN
BEGIN:VEVENT
DTSTART:20181114T173000Z
DTEND:20181114T180000Z
X-MICROSOFT-CDO-ALLDAYEVENT:FALSE
SUMMARY:Pinion Family Insurance Ribbon Cutting
DESCRIPTION:Join us for this exciting ribbon cutting ceremony!
X-ALT-DESC;FMTTYPE=text/html:Join us for this exciting ribbon cutting ceremony!&nbsp\;&nbsp\;&nbsp\;&nbsp\;
LOCATION:2621 A West Oxford Loop\, Oxford
UID:e.1330.2853
SEQUENCE:3
DTSTAMP:20260424T211036Z
URL:https://business.oxfordms.com/events/details/pinion-family-insurance-ribbon-cutting-11-14-2018-2853
END:VEVENT

END:VCALENDAR
