BEGIN:VCALENDAR
VERSION:2.0
PRODID:-//ChamberMaster//Event Calendar 2.0//EN
METHOD:PUBLISH
X-PUBLISHED-TTL:P3D
REFRESH-INTERVAL:P3D
CALSCALE:GREGORIAN
BEGIN:VEVENT
DTSTART:20220428T230000Z
DTEND:20220429T020000Z
X-MICROSOFT-CDO-ALLDAYEVENT:FALSE
SUMMARY:Reads\, Beats\, & Eats
DESCRIPTION:Reads\, Beats\, & Eats is the Lafayette County Literacy Council's annual fundraiser. All proceeds benefit Lafayette County residents through the LCLC's three programs\; 1) Dolly Parton Imagination Library\, 2) Adult Basic Literacy Education\, and 3) Children's Book Festival.
X-ALT-DESC;FMTTYPE=text/html:Reads\, Beats\, &amp\; Eats is the Lafayette County Literacy Council&rsquo\;s annual fundraiser. All proceeds benefit Lafayette County residents through the LCLC&rsquo\;s three programs\; 1) Dolly Parton Imagination Library\, 2) Adult Basic Literacy Education\, and 3) Children&rsquo\;s Book Festival.
LOCATION:Harrison's 1810 on the green
UID:e.1330.4165
SEQUENCE:3
DTSTAMP:20260421T163032Z
URL:https://business.oxfordms.com/events/details/reads-beats-eats-4165
END:VEVENT

END:VCALENDAR
