BEGIN:VCALENDAR
VERSION:2.0
PRODID:-//ChamberMaster//Event Calendar 2.0//EN
METHOD:PUBLISH
X-PUBLISHED-TTL:P3D
REFRESH-INTERVAL:P3D
CALSCALE:GREGORIAN
BEGIN:VEVENT
DTSTART:20170922T183000Z
DTEND:20170922T190000Z
X-MICROSOFT-CDO-ALLDAYEVENT:FALSE
SUMMARY:RECURVE Health Center Ribbon Cutting Ceremony
DESCRIPTION:RECURVE Health Center will celebrate their new business in Oxford with a Ribbon Cutting Ceremony hosted by the Oxford-Lafayette County Chamber.RECURVE Health Center utilizes advanced structural chiropractic care\, nutritional counseling\, and unique exercise methods to reshape the body both inside and out.
X-ALT-DESC;FMTTYPE=text/html:RECURVE Health Center will celebrate their&nbsp\;new business&nbsp\;in Oxford with a&nbsp\;Ribbon Cutting Ceremony hosted by the Oxford-Lafayette County Chamber.RECURVE Health Center utilizes advanced structural chiropractic care\, nutritional counseling\, and unique exercise methods to reshape the body both inside and out.
LOCATION:1007 N Lamar Blvd\, Suite 2
UID:e.1330.1794
SEQUENCE:3
DTSTAMP:20260425T202539Z
URL:https://business.oxfordms.com/events/details/recurve-health-center-ribbon-cutting-ceremony-09-22-2017-1794
END:VEVENT

END:VCALENDAR
