BEGIN:VCALENDAR
VERSION:2.0
PRODID:-//ChamberMaster//Event Calendar 2.0//EN
METHOD:PUBLISH
X-PUBLISHED-TTL:P3D
REFRESH-INTERVAL:P3D
CALSCALE:GREGORIAN
BEGIN:VEVENT
DTSTART:20191017T213000Z
DTEND:20191017T220000Z
X-MICROSOFT-CDO-ALLDAYEVENT:FALSE
SUMMARY:Reid Sherman Investment Group of Raymond James
DESCRIPTION:Reid Sherman Investment Group of Raymond James will celebrate their new business in Oxford with a Ribbon Cutting Ceremony hosted by the Oxford-Lafayette County Chamber. They offer a team approach to financial planning\, offering you a broader scope of expertise than you will likely find in any one person. Clients are our main priority\, which is why we work to understand your unique circumstances and ultimately create a distinctive plan that provides a roadmap for your financial journey.
X-ALT-DESC;FMTTYPE=text/html:Reid Sherman Investment Group of Raymond James will celebrate their&nbsp\;new business in Oxford with&nbsp\;a&nbsp\;Ribbon Cutting Ceremony hosted by the Oxford-Lafayette County Chamber. <span style="font-size:14px\;"><span style="font-family:arial\;">They&nbsp\;<span style="caret-color: rgb(104\, 104\, 104)\; color: rgb(104\, 104\, 104)\; background-color: rgb(255\, 255\, 255)\;">offer a team approach to financial planning\, offering you a broader scope of expertise than you will likely find in any one person. Clients are our main priority\, which is why we work to understand your unique circumstances and ultimately create a distinctive plan that provides a roadmap for your financial journey.</span></span></span>
LOCATION:400 South Lamar Blvd. Ste. A1
UID:e.1330.3128
SEQUENCE:3
DTSTAMP:20260424T053211Z
URL:https://business.oxfordms.com/events/details/reid-sherman-investment-group-of-raymond-james-10-17-2019-3128
END:VEVENT

END:VCALENDAR
