BEGIN:VCALENDAR
VERSION:2.0
PRODID:-//ChamberMaster//Event Calendar 2.0//EN
METHOD:PUBLISH
X-PUBLISHED-TTL:P3D
REFRESH-INTERVAL:P3D
CALSCALE:GREGORIAN
BEGIN:VEVENT
DTSTART:20180814T163000Z
DTEND:20180814T180000Z
X-MICROSOFT-CDO-ALLDAYEVENT:FALSE
SUMMARY:Right Track Medical Group Open House & Ribbon Cutting Ceremony
DESCRIPTION:Right Track Medical Group will celebrate their new business in Oxford with an Open House and Ribbon Cutting Ceremony hosted by the Oxford-Lafayette County Chamber.\n\nRight Track Medical Group's physician-led healthcare team will include nurse practitioners and therapists. Their certified mental-health providers are committed to helping their patients\, through a proven combination of targeted medication and talk therapy.
X-ALT-DESC;FMTTYPE=text/html:Right Track Medical Group will celebrate their&nbsp\;new business&nbsp\;in Oxford with an Open House and Ribbon Cutting Ceremony hosted by the Oxford-Lafayette County Chamber.<br />\nRight Track Medical Group&#39\;s physician-led healthcare team will include nurse practitioners and therapists. Their certified mental-health providers are committed to helping their patients\, through a proven combination of targeted medication and talk therapy.
LOCATION:1203 Medical Park Drive
UID:e.1330.1891
SEQUENCE:3
DTSTAMP:20260425T021836Z
URL:https://business.oxfordms.com/events/details/right-track-medical-group-open-house-ribbon-cutting-ceremony-08-14-2018-1891
END:VEVENT

END:VCALENDAR
