BEGIN:VCALENDAR
VERSION:2.0
PRODID:-//ChamberMaster//Event Calendar 2.0//EN
METHOD:PUBLISH
X-PUBLISHED-TTL:P3D
REFRESH-INTERVAL:P3D
CALSCALE:GREGORIAN
BEGIN:VEVENT
DTSTART:20170616T203000Z
DTEND:20170616T210000Z
X-MICROSOFT-CDO-ALLDAYEVENT:FALSE
SUMMARY:Right Way Realty Ribbon Cutting Ceremony
DESCRIPTION:Right Way Realty will celebrate their new business location in Oxford with a Ribbon Cutting Ceremony hosted by the Oxford-Lafayette County Chamber. Right Way Realty is a real estate firm offering you the opportunity whether you are looking to buy or sell a house\, townhome\, condo\, land\, farm\, or commercial property in Oxford\, MS or the surrounding area\, to work with them.
X-ALT-DESC;FMTTYPE=text/html:<span style="font-size: 14px\;">Right Way Realty will celebrate their&nbsp\;new business location in Oxford with a Ribbon Cutting Ceremony hosted by the Oxford-Lafayette County Chamber. Right Way </span><span style="font-size: 14px\;">Realty is a real estate </span><span style="font-size: 14px\;">firm offering you the opportunity w</span><span style="font-family: verdana\, arial\, helvetica\; font-size: 14px\; background-color: rgb(255\, 255\, 255)\;">hether</span><span style="font-family: verdana\, arial\, helvetica\; font-size: 14px\; background-color: rgb(255\, 255\, 255)\;"> you are looking to buy or sell a house\, townhome\, condo\, land\, farm\, or commercial property in Oxford\, MS or the surrounding area\, to work with them.</span>
LOCATION:78 Hwy. 30 Ste. 102
UID:e.1330.1776
SEQUENCE:3
DTSTAMP:20260426T010516Z
URL:https://business.oxfordms.com/events/details/right-way-realty-ribbon-cutting-ceremony-06-16-2017-1776
END:VEVENT

END:VCALENDAR
