BEGIN:VCALENDAR
VERSION:2.0
PRODID:-//ChamberMaster//Event Calendar 2.0//EN
METHOD:PUBLISH
X-PUBLISHED-TTL:P3D
REFRESH-INTERVAL:P3D
CALSCALE:GREGORIAN
BEGIN:VEVENT
DTSTART:20180921T160000Z
DTEND:20180921T170000Z
X-MICROSOFT-CDO-ALLDAYEVENT:FALSE
SUMMARY:Satterfield Pottery Ribbon Cutting Ceremony
DESCRIPTION:Satterfield Pottery will celebrate their new business in Oxford & Clear Creek Arts Festival with a Ribbon Cutting Ceremony hosted by the Oxford-Lafayette County Chamber.\n\nSatterfield's Pottery is a family owned Mississippi based start up company. ... beautiful\, durable pottery that you love and pass down through the generations.
X-ALT-DESC;FMTTYPE=text/html:Satterfield Pottery will celebrate their&nbsp\;new business&nbsp\;in Oxford &amp\; Clear Creek Arts Festival with a&nbsp\;Ribbon Cutting Ceremony hosted by the Oxford-Lafayette County Chamber.<br />\n<span class="st"><em>Satterfield&#39\;s Pottery</em> is a family owned Mississippi based start up company. ... beautiful\, durable pottery that you love and pass down through the generations.</span>
LOCATION:31 County Road 348
UID:e.1330.1892
SEQUENCE:3
DTSTAMP:20260425T003759Z
URL:https://business.oxfordms.com/events/details/satterfield-pottery-ribbon-cutting-ceremony-09-21-2018-1892
END:VEVENT

END:VCALENDAR
