BEGIN:VCALENDAR
VERSION:2.0
PRODID:-//ChamberMaster//Event Calendar 2.0//EN
METHOD:PUBLISH
X-PUBLISHED-TTL:P3D
REFRESH-INTERVAL:P3D
CALSCALE:GREGORIAN
BEGIN:VEVENT
DTSTART:20190501T213000Z
DTEND:20190501T220000Z
X-MICROSOFT-CDO-ALLDAYEVENT:FALSE
SUMMARY:Shelter Insurance-Eli Lasky Ribbon Cutting Ceremony
DESCRIPTION:Shelter Insurance-Eli Lasky is celebrating their new business with a  Ribbon Cutting Ceremony hosted by the Oxford-Lafayette County Chamber.\n\nEli Laskt proudly serves Oxford\, Mississippi and surrounding areas. As your Shelter agent Eli recommends ways to save money on your insurance\, while helping you make sure you have the right coverage.\n\n\n\n \nProudly serving Oxford\, Mississippi and surrounding areas.\n\n \n\nAs your local Shelter agent it's my job to recommend ways to save money on your insurance\, while helping you make sure you have the right coverage. Contact me for a free insurance protection review to learn more about Shelter's discounts.
X-ALT-DESC;FMTTYPE=text/html:Shelter Insurance-Eli Lasky&nbsp\;is celebrating&nbsp\;their new business with a &nbsp\;Ribbon Cutting Ceremony hosted by the Oxford-Lafayette County Chamber.<br />\nEli Laskt proudly serves Oxford\, Mississippi and surrounding areas. As your Shelter agent Eli recommends ways to save money on your insurance\, while helping you make sure you have the right coverage.<br />\n<br />\n&nbsp\;\n<h5 style="margin: 0px 0px 3px\; padding: 0px\; border: 0px currentColor\; border-image: none\; color: rgb(51\, 51\, 51)\; text-transform: none\; line-height: 1.25\; text-indent: 0px\; letter-spacing: normal\; font-family: &quot\;Helvetica Neue&quot\;\, HelveticaNeue\, Helvetica\, Arial\, &quot\;Lucida Grande&quot\;\, sans-serif\; font-size: 1.8rem\; font-style: normal\; font-weight: normal\; word-spacing: 0px\; vertical-align: baseline\; white-space: normal\; orphans: 2\; widows: 2\; font-stretch: inherit\; background-color: rgb(238\, 238\, 238)\; font-variant-ligatures: normal\; font-variant-caps: normal\; font-variant-numeric: inherit\; font-variant-east-asian: inherit\; -webkit-text-stroke-width: 0px\; text-decoration-style: initial\; text-decoration-color: initial\;">Proudly serving Oxford\, Mississippi and surrounding areas.</h5>\n\n<p style="margin: 0px 0px 18px\; padding: 0px\; border: 0px currentColor\; border-image: none\; color: rgb(51\, 51\, 51)\; text-transform: none\; line-height: 1.25\; text-indent: 0px\; letter-spacing: normal\; font-family: &quot\;Helvetica Neue&quot\;\, HelveticaNeue\, Helvetica\, Arial\, &quot\;Lucida Grande&quot\;\, sans-serif\; font-size: 16px\; font-style: normal\; font-weight: 400\; word-spacing: 0px\; vertical-align: baseline\; white-space: normal\; orphans: 2\; widows: 2\; font-stretch: inherit\; background-color: rgb(238\, 238\, 238)\; font-variant-ligatures: normal\; font-variant-caps: normal\; font-variant-numeric: inherit\; font-variant-east-asian: inherit\; -webkit-text-stroke-width: 0px\; text-decoration-style: initial\; text-decoration-color: initial\;">&nbsp\;</p>\n\n<p style="margin: 0px 0px 18px\; padding: 0px\; border: 0px currentColor\; border-image: none\; color: rgb(51\, 51\, 51)\; text-transform: none\; line-height: 1.25\; text-indent: 0px\; letter-spacing: normal\; font-family: &quot\;Helvetica Neue&quot\;\, HelveticaNeue\, Helvetica\, Arial\, &quot\;Lucida Grande&quot\;\, sans-serif\; font-size: 16px\; font-style: normal\; font-weight: 400\; word-spacing: 0px\; vertical-align: baseline\; white-space: normal\; orphans: 2\; widows: 2\; font-stretch: inherit\; background-color: rgb(238\, 238\, 238)\; font-variant-ligatures: normal\; font-variant-caps: normal\; font-variant-numeric: inherit\; font-variant-east-asian: inherit\; -webkit-text-stroke-width: 0px\; text-decoration-style: initial\; text-decoration-color: initial\;">As your local Shelter agent it&#39\;s my job to recommend ways to save money on your insurance\, while helping you make sure you have the right coverage. Contact me for a free insurance protection review to learn more about Shelter&#39\;s discounts.</p>\n
LOCATION:1295 N. Lamar Ste C\, Oxford
UID:e.1330.3111
SEQUENCE:3
DTSTAMP:20260424T104143Z
URL:https://business.oxfordms.com/events/details/shelter-insurance-eli-lasky-ribbon-cutting-ceremony-05-01-2019-3111
END:VEVENT

END:VCALENDAR
