BEGIN:VCALENDAR
VERSION:2.0
PRODID:-//ChamberMaster//Event Calendar 2.0//EN
METHOD:PUBLISH
X-PUBLISHED-TTL:P3D
REFRESH-INTERVAL:P3D
CALSCALE:GREGORIAN
BEGIN:VEVENT
DTSTART:20181026T223000Z
DTEND:20181026T230000Z
X-MICROSOFT-CDO-ALLDAYEVENT:FALSE
SUMMARY:Silent Walk for Domestic Violence Victims
DESCRIPTION:Silent Walk in memory and honor of Domestic Violence Victims. We will be walking around the square one time. \n\nWear your purple\, wear your support. Pets are welcome.
X-ALT-DESC;FMTTYPE=text/html:Silent Walk in&nbsp\;memory and honor of Domestic Violence Victims. We will be walking around the square one time.&nbsp\;<br />\nWear your purple\, wear your support. Pets are welcome.
LOCATION:Meeting at St. Peter's Episcopal Church @ 5:00 pm The walk starts @ 5:30 pm
UID:e.1330.2794
SEQUENCE:3
DTSTAMP:20260424T225035Z
URL:https://business.oxfordms.com/events/details/silent-walk-for-domestic-violence-victims-10-26-2018-2794
END:VEVENT

END:VCALENDAR
