BEGIN:VCALENDAR
VERSION:2.0
PRODID:-//ChamberMaster//Event Calendar 2.0//EN
METHOD:PUBLISH
X-PUBLISHED-TTL:P3D
REFRESH-INTERVAL:P3D
CALSCALE:GREGORIAN
BEGIN:VEVENT
DTSTART:20171026T154500Z
DTEND:20171026T154500Z
X-MICROSOFT-CDO-ALLDAYEVENT:FALSE
SUMMARY:SMW Manufacturing Ribbon Cutting Ceremony
DESCRIPTION:SMW Manufacturing will celebrate their new manufacturing facility in Oxford with a Ribbon Cutting Ceremony hosted by the Oxford-Lafayette Chamber of Commerce. SMW Manufacturing's mission is to offer the most efficient process options for their precision component requirements. Lieutenant Governor Tate Reeves will be on hand to officially cut the ribbon for SMW's new manufacturing facility in the Max D. Hipp\, Lafayette County Industrial Park. Please join the Oxford-Lafayette County Economic Development Foundation\, Lafayette County\, the City of Oxford\, and the State of Mississippi as we welcome SMW Manufacturing to Lafayette County\, Mississippi.\n\n\n\nCounty Economic Development Foundation\, Lafa.
X-ALT-DESC;FMTTYPE=text/html:<span style="font-family:arial\;">SMW Manufacturing will celebrate their&nbsp\;new manufacturing facility in Oxford with a&nbsp\;Ribbon Cutting Ceremony hosted by the Oxford-Lafayette Chamber of Commerce. SMW Manufacturing&#39\;s mission is to offer the most efficient process options for their precision component requirements. Lieutenant Governor Tate Reeves will be on hand to officially cut the ribbon for SMW&#39\;s new manufacturing facility in the Max D. Hipp\, Lafayette County Industrial Park. Please join the Oxford-Lafayette County Economic Development Foundation\, Lafayette County\, the City of Oxford\, and the State of Mississippi as we welcome SMW Manufacturing to Lafayette County\, Mississippi.</span><br />\n<br />\n<span style="font-family:arial\;">County Economic Development Foundation\, Lafa.</span>
LOCATION:36 County Road 166\, Oxford MS 38655
UID:e.1330.1831
SEQUENCE:3
DTSTAMP:20260425T183933Z
URL:https://business.oxfordms.com/events/details/smw-manufacturing-ribbon-cutting-ceremony-10-26-2017-1831
END:VEVENT

END:VCALENDAR
