BEGIN:VCALENDAR
VERSION:2.0
PRODID:-//ChamberMaster//Event Calendar 2.0//EN
METHOD:PUBLISH
X-PUBLISHED-TTL:P3D
REFRESH-INTERVAL:P3D
CALSCALE:GREGORIAN
BEGIN:VEVENT
DTSTART:20190703T163000Z
DTEND:20190703T170000Z
X-MICROSOFT-CDO-ALLDAYEVENT:FALSE
SUMMARY:Social Wine & Whiskey House Ribbon Cutting Ceremony
DESCRIPTION:Social Wine & Whiskey House will celebrate their one year anniversary with a Ribbon Cutting Ceremony hosted by the Oxford-Lafayette County Chamber. Social Wine and Whisky House is a wine/spirit store located in Oxford with a large and unique selection of competitively priced wines and spirits in an upscale\, comfortable\, atmosphere employed with a knowledgeable and friendly staff.
X-ALT-DESC;FMTTYPE=text/html:Social Wine &amp\; Whiskey House will celebrate their one year anniversary with&nbsp\;a&nbsp\;Ribbon Cutting Ceremony hosted by the Oxford-Lafayette County Chamber.&nbsp\;<span style="font-size:12px\;"><span style="caret-color: rgb(68\, 68\, 68)\; color: rgb(68\, 68\, 68)\; font-family: Arial\, Helvetica\, sans-serif\; background-color: rgb(255\, 255\, 255)\;">Social Wine and Whisky House is a wine/spirit store located in Oxford with a large and unique selection of competitively priced wines and spirits in an upscale\, comfortable\, atmosphere employed with a knowledgeable and friendly staff.</span></span>
LOCATION:1735 University Ave. Located near Chaney's.
UID:e.1330.3115
SEQUENCE:3
DTSTAMP:20260424T071901Z
URL:https://business.oxfordms.com/events/details/social-wine-whiskey-house-ribbon-cutting-ceremony-07-03-2019-3115
END:VEVENT

END:VCALENDAR
