BEGIN:VCALENDAR
VERSION:2.0
PRODID:-//ChamberMaster//Event Calendar 2.0//EN
METHOD:PUBLISH
X-PUBLISHED-TTL:P3D
REFRESH-INTERVAL:P3D
CALSCALE:GREGORIAN
BEGIN:VEVENT
DTSTART:20190827T093000Z
DTEND:20190827T220000Z
X-MICROSOFT-CDO-ALLDAYEVENT:FALSE
SUMMARY:SoLa Ribbon Cutting Ceremony
DESCRIPTION:SoLa will celebrate their new branding\, formerly known as The Wine Bar with a Ribbon Cutting Ceremony hosted by the Oxford-Lafayette County Chamber. SoLa is a place for Twisted Cuisine and Lifted Spirits\, bringing together a variety of flavors in a unique combination to deliver an amazingly fresh experience.
X-ALT-DESC;FMTTYPE=text/html:SoLa will celebrate their&nbsp\;new branding\, formerly known as The Wine Bar with&nbsp\;a&nbsp\;Ribbon Cutting Ceremony hosted by the Oxford-Lafayette County Chamber.&nbsp\;<span style="font-family:tahoma\;"><span style="color:#2f2f2f\;">SoLa is a place for Twisted Cuisine and Lifted Spirits\, bringing together a variety of flavors in a unique combination to deliver an amazingly fresh experience.</span><br />\n&nbsp\;</span>
LOCATION:401 S Lamar Blvd.
UID:e.1330.3120
SEQUENCE:3
DTSTAMP:20260424T052839Z
URL:https://business.oxfordms.com/events/details/sola-ribbon-cutting-ceremony-08-27-2019-3120
END:VEVENT

END:VCALENDAR
