BEGIN:VCALENDAR
VERSION:2.0
PRODID:-//ChamberMaster//Event Calendar 2.0//EN
METHOD:PUBLISH
X-PUBLISHED-TTL:P3D
REFRESH-INTERVAL:P3D
CALSCALE:GREGORIAN
BEGIN:VEVENT
DTSTART:20190220T173000Z
DTEND:20190220T180000Z
X-MICROSOFT-CDO-ALLDAYEVENT:FALSE
SUMMARY:SOLD OUT!! Board and Brush Creative Studio Lunch and Learn
DESCRIPTION:Board and Brush Creative Studio is offering a Chamber Lunch and Learn. Cost is $20 and includes a mini sign valued at $35 and Lunch. Board and Brush is your place to build on-trend\, farmhouse-classic\, inspirational pieces of d cor for your home\, office\, or cabin.
X-ALT-DESC;FMTTYPE=text/html:Board and Brush Creative Studio is offering a Chamber Lunch and Learn. Cost is $20 and includes a mini sign valued at $35 and Lunch. Board and Brush is your place to build on-trend\, farmhouse-classic\, inspirational pieces of d&eacute\;cor for your home\, office\, or cabin.<br />\n&nbsp\;
LOCATION:1525 University Ave\, Oxford\, MS
UID:e.1330.3079
SEQUENCE:3
DTSTAMP:20260424T155421Z
URL:https://business.oxfordms.com/events/details/sold-out-board-and-brush-creative-studio-lunch-and-learn-02-20-2019-3079
END:VEVENT

END:VCALENDAR
