BEGIN:VCALENDAR
VERSION:2.0
PRODID:-//ChamberMaster//Event Calendar 2.0//EN
METHOD:PUBLISH
X-PUBLISHED-TTL:P3D
REFRESH-INTERVAL:P3D
CALSCALE:GREGORIAN
BEGIN:VEVENT
DTSTART:20171030T213000Z
DTEND:20171030T220000Z
X-MICROSOFT-CDO-ALLDAYEVENT:FALSE
SUMMARY:Southern Chic Salon & Spa Ribbon Cutting Ceremony
DESCRIPTION:Southern Chic Salon & Spa will celebrate their new business in Oxford with a Ribbon Cutting Ceremony hosted by the Oxford-Lafayette County Chamber. Southern Chic Salon & Spa offers a relaxing and welcoming environment that is both modern and chic.
X-ALT-DESC;FMTTYPE=text/html:Southern Chic Salon &amp\; Spa will celebrate their&nbsp\;new business&nbsp\;in Oxford with a&nbsp\;Ribbon Cutting Ceremony hosted by the Oxford-Lafayette County Chamber. Southern Chic Salon &amp\; Spa offers a relaxing and welcoming environment that is both modern and chic.
LOCATION:2226 Jackson Ave. West Oxford\, MS 38655
UID:e.1330.1832
SEQUENCE:3
DTSTAMP:20260425T202243Z
URL:https://business.oxfordms.com/events/details/southern-chic-salon-spa-ribbon-cutting-ceremony-10-30-2017-1832
END:VEVENT

END:VCALENDAR
