BEGIN:VCALENDAR
VERSION:2.0
PRODID:-//ChamberMaster//Event Calendar 2.0//EN
METHOD:PUBLISH
X-PUBLISHED-TTL:P3D
REFRESH-INTERVAL:P3D
CALSCALE:GREGORIAN
BEGIN:VEVENT
DTSTART:20171204T170000Z
DTEND:20171204T173000Z
X-MICROSOFT-CDO-ALLDAYEVENT:FALSE
SUMMARY:Southern Craft Stove + Tap Ribbon Cutting Ceremony
DESCRIPTION:Southern Craft Stove + Tap will celebrate their new business in Oxford with a Ribbon Cutting Ceremony hosted by the Oxford-Lafayette County Chamber. Southern Craft Stove + Tap strives to cultivate an atmosphere that the whole family will find truly enjoyable\, while offering a high quality selection of cuisine and libations that are unique to the area.
X-ALT-DESC;FMTTYPE=text/html:Southern Craft Stove&nbsp\;+&nbsp\;Tap&nbsp\;will celebrate their&nbsp\;new business&nbsp\;in Oxford with a&nbsp\;Ribbon Cutting Ceremony hosted by the Oxford-Lafayette County Chamber.&nbsp\;Southern Craft Stove + Tap&nbsp\;strives<span style="font-family: proxima-n-w01-reg\,sans-serif\;"> to cultivate&nbsp\;an atmosphere that the whole family will find truly&nbsp\;enjoyable\, while&nbsp\;offering a&nbsp\;high&nbsp\;quality selection&nbsp\;of cuisine and libations that are&nbsp\;unique to the area.</span><br />\n&nbsp\;
LOCATION:705 Sisk Ave. Suite 111\, Oxford\, MS
UID:e.1330.1848
SEQUENCE:3
DTSTAMP:20260425T152527Z
URL:https://business.oxfordms.com/events/details/southern-craft-stove-tap-ribbon-cutting-ceremony-12-04-2017-1848
END:VEVENT

END:VCALENDAR
