BEGIN:VCALENDAR
VERSION:2.0
PRODID:-//ChamberMaster//Event Calendar 2.0//EN
METHOD:PUBLISH
X-PUBLISHED-TTL:P3D
REFRESH-INTERVAL:P3D
CALSCALE:GREGORIAN
BEGIN:VEVENT
DTSTART:20190726T220000Z
DTEND:20190727T010000Z
X-MICROSOFT-CDO-ALLDAYEVENT:FALSE
SUMMARY:Southern Prohibition Pop Up Taproom at Jackson Beer Co
DESCRIPTION:Southern Prohibition Brewing from Hattiesburg MS will be at Jackson Beer Co doing an event with beers that have never been in this market. We will have food and will be serving beer on premise.
X-ALT-DESC;FMTTYPE=text/html:Southern Prohibition Brewing from Hattiesburg MS will be at Jackson Beer Co doing an event with beers that have never been in this market. We will have food and will be serving beer on premise.
LOCATION:1801 Jackson Ave W. (Back of shopping center)
UID:e.1330.3116
SEQUENCE:3
DTSTAMP:20260424T082857Z
URL:https://business.oxfordms.com/events/details/southern-prohibition-pop-up-taproom-at-jackson-beer-co-07-26-2019-3116
END:VEVENT

END:VCALENDAR
