BEGIN:VCALENDAR
VERSION:2.0
PRODID:-//ChamberMaster//Event Calendar 2.0//EN
METHOD:PUBLISH
X-PUBLISHED-TTL:P3D
REFRESH-INTERVAL:P3D
CALSCALE:GREGORIAN
BEGIN:VEVENT
DTSTART:20170920T190000Z
DTEND:20170920T193000Z
X-MICROSOFT-CDO-ALLDAYEVENT:FALSE
SUMMARY:Southern Storage Ribbon Cutting Ceremony
DESCRIPTION:Southern Storage will celebrate their new business in Oxford with a Ribbon Cutting Ceremony hosted by the Oxford-Lafayette County Chamber. Southern Storage is a new self-storage facility and is perfect for all your storage needs!
X-ALT-DESC;FMTTYPE=text/html:Southern Storage will celebrate their&nbsp\;new business&nbsp\;in Oxford with a&nbsp\;Ribbon Cutting Ceremony hosted by the Oxford-Lafayette County Chamber. Southern Storage is a new self-storage facility and is perfect for all your storage needs!
LOCATION:13 Industrial Park Drive
UID:e.1330.1796
SEQUENCE:3
DTSTAMP:20260425T202140Z
URL:https://business.oxfordms.com/events/details/southern-storage-ribbon-cutting-ceremony-09-20-2017-1796
END:VEVENT

END:VCALENDAR
