BEGIN:VCALENDAR
VERSION:2.0
PRODID:-//ChamberMaster//Event Calendar 2.0//EN
METHOD:PUBLISH
X-PUBLISHED-TTL:P3D
REFRESH-INTERVAL:P3D
CALSCALE:GREGORIAN
BEGIN:VEVENT
DTSTART:20180813T213000Z
DTEND:20180813T220000Z
X-MICROSOFT-CDO-ALLDAYEVENT:FALSE
SUMMARY:Specialty Orthopedic Group Ribbon Cutting Ceremony
DESCRIPTION:Specialty Orthopedic Group will celebrate their new business in Oxford with a Ribbon Cutting Ceremony hosted by the Oxford-Lafayette County Chamber.\n\nSpecialty Orthopedic Group specializes in orthopedic surgery of the hand\, wrist\, and elbow\; shoulder\, hip\, and knee replacement\; revision total joint surgery\; sports medicine\; and hip preservation and arthroscopy.
X-ALT-DESC;FMTTYPE=text/html:Specialty Orthopedic Group will celebrate their&nbsp\;new business&nbsp\;in Oxford with a Ribbon Cutting Ceremony hosted by the Oxford-Lafayette County Chamber.<br />\nSpecialty Orthopedic Group specializes in orthopedic surgery of the hand\, wrist\, and elbow\; shoulder\, hip\, and knee replacement\; revision total joint surgery\; sports medicine\; and hip preservation and arthroscopy.
LOCATION:100 Baptist Memorial Circle Suite 330
UID:e.1330.1893
SEQUENCE:3
DTSTAMP:20260425T021310Z
URL:https://business.oxfordms.com/events/details/specialty-orthopedic-group-ribbon-cutting-ceremony-08-13-2018-1893
END:VEVENT

END:VCALENDAR
