BEGIN:VCALENDAR
VERSION:2.0
PRODID:-//ChamberMaster//Event Calendar 2.0//EN
METHOD:PUBLISH
X-PUBLISHED-TTL:P3D
REFRESH-INTERVAL:P3D
CALSCALE:GREGORIAN
BEGIN:VEVENT
DTSTART:20190808T150000Z
DTEND:20190808T153000Z
X-MICROSOFT-CDO-ALLDAYEVENT:FALSE
SUMMARY:Stash Ribbon Cutting Ceremony
DESCRIPTION:Stash will celebrate their store renovation with a Ribbon Cutting Ceremony hosted by the Oxford-Lafayette County Chamber. Stash was created to give you high-end looks at low prices. Call them crazy\, but they think you should be able to find stylish\, quality pieces at prices you can afford. In fact\, they're on a mission to be the most unique and value-oriented furniture store in the country.
X-ALT-DESC;FMTTYPE=text/html:<span style="font-size:12px\;">Stash will celebrate their store renovation with&nbsp\;a&nbsp\;Ribbon Cutting Ceremony hosted by the Oxford-Lafayette County Chamber.&nbsp\;<span style="caret-color: rgb(39\, 40\, 41)\; color: rgb(39\, 40\, 41)\; font-family: franklin-gothic-urw\, sans-serif\; background-color: rgb(255\, 255\, 255)\;">Stash was created to give you high-end&nbsp\;looks at low prices. Call them crazy\, but they think you should be able to find stylish\, quality&nbsp\;pieces at prices you can afford. In fact\, they&#39\;re on a mission to be the most unique and value-oriented furniture store in the country.</span></span>
LOCATION:137 Courthouse Square
UID:e.1330.3118
SEQUENCE:3
DTSTAMP:20260424T052842Z
URL:https://business.oxfordms.com/events/details/stash-ribbon-cutting-ceremony-08-08-2019-3118
END:VEVENT

END:VCALENDAR
