BEGIN:VCALENDAR
VERSION:2.0
PRODID:-//ChamberMaster//Event Calendar 2.0//EN
METHOD:PUBLISH
X-PUBLISHED-TTL:P3D
REFRESH-INTERVAL:P3D
CALSCALE:GREGORIAN
BEGIN:VEVENT
DTSTART:20181209T210000Z
DTEND:20181209T230000Z
X-MICROSOFT-CDO-ALLDAYEVENT:FALSE
SUMMARY:Studio Christmas Open House
DESCRIPTION:Stop by the studio of Andi Bedsworth for hot cider\, cookies and free art projects for the kids. The studio open house is open to the public and children are welcome. \n\nhttps://www.facebook.com/events/165423317744675/
X-ALT-DESC;FMTTYPE=text/html:Stop by the studio of Andi Bedsworth for hot cider\, cookies and free art projects for the kids. The studio open house is open to the public and children are welcome.&nbsp\;<br />\nhttps://www.facebook.com/events/165423317744675/
LOCATION:The Studio is located at 295 Hwy 7 North in the Orchard Church. Please park in the pack of the church and go in the back door. There will be signs to direct attendees.
UID:e.1330.2854
SEQUENCE:3
DTSTAMP:20260424T192125Z
URL:https://business.oxfordms.com/events/details/studio-christmas-open-house-12-09-2018-2854
END:VEVENT

END:VCALENDAR
