BEGIN:VCALENDAR
VERSION:2.0
PRODID:-//ChamberMaster//Event Calendar 2.0//EN
METHOD:PUBLISH
X-PUBLISHED-TTL:P3D
REFRESH-INTERVAL:P3D
CALSCALE:GREGORIAN
BEGIN:VEVENT
DTSTART:20180819T190000Z
DTEND:20180819T220000Z
X-MICROSOFT-CDO-ALLDAYEVENT:FALSE
SUMMARY:Summer Sunday Tours at Splinter Creek
DESCRIPTION:Have you been curious about Splinter Creek? Drive out to see us on Sunday\, 8/19. We'll have the main gates and our model house open to welcome you! Meander through the property\, making sure to stop and sit a spell on the docks on one of our three spring-fed lakes. Swing by the model house for a glass of lemonade. We'll be on hand to answer questions and show you around.
X-ALT-DESC;FMTTYPE=text/html:Have you been curious about Splinter Creek? Drive out to see us on Sunday\, 8/19. We&#39\;ll have the main gates and our model house open to welcome you! Meander through the property\, making sure to stop and sit a spell on the docks on one of our three spring-fed lakes. Swing by the model house for a glass of lemonade. We&#39\;ll be on hand to answer questions and show you around.
LOCATION:Splinter Creek 484 County Road 343 Taylor\, MS 38673
UID:e.1330.1896
SEQUENCE:3
DTSTAMP:20260425T035304Z
URL:https://business.oxfordms.com/events/details/summer-sunday-tours-at-splinter-creek-08-19-2018-1896
END:VEVENT

END:VCALENDAR
