BEGIN:VCALENDAR
VERSION:2.0
PRODID:-//ChamberMaster//Event Calendar 2.0//EN
METHOD:PUBLISH
X-PUBLISHED-TTL:P3D
REFRESH-INTERVAL:P3D
CALSCALE:GREGORIAN
BEGIN:VEVENT
DTSTART:20180125T220000Z
DTEND:20180125T223000Z
X-MICROSOFT-CDO-ALLDAYEVENT:FALSE
SUMMARY:Thacker 564 Ribbon Cutting Ceremony
DESCRIPTION:Thacker 564 will celebrate their new business in Oxford with a Ribbon Cutting Ceremony hosted by the Oxford-Lafayette County Chamber.Oxford chef/restaurateurs Michelle Rounsaville and Trey Bridgers have designed a menu of southern-style sandwiches\, appetizers and artisanal cocktails that's earning 5-star reviews on Facebook reported by HottyToddy.com
X-ALT-DESC;FMTTYPE=text/html:<span style="font-size:16px\;"><span style="font-family: times\\ new\\ roman\;">Thacker 564 will celebrate their&nbsp\;new business&nbsp\;in Oxford with a&nbsp\;Ribbon Cutting Ceremony hosted by the Oxford-Lafayette County Chamber.Oxford chef/restaurateurs Michelle Rounsaville and Trey Bridgers have designed a menu of southern-style sandwiches\, appetizers and artisanal cocktails that&#39\;s earning 5-star reviews on Facebook reported by HottyToddy.com</span></span><br />\n&nbsp\;
LOCATION:3000 Old Taylor Road\, Ste. C\, Oxford\, MS
UID:e.1330.1856
SEQUENCE:3
DTSTAMP:20260425T133052Z
URL:https://business.oxfordms.com/events/details/thacker-564-ribbon-cutting-ceremony-01-25-2018-1856
END:VEVENT

END:VCALENDAR
