BEGIN:VCALENDAR
VERSION:2.0
PRODID:-//ChamberMaster//Event Calendar 2.0//EN
METHOD:PUBLISH
X-PUBLISHED-TTL:P3D
REFRESH-INTERVAL:P3D
CALSCALE:GREGORIAN
BEGIN:VEVENT
DTSTART:20181119T140000Z
DTEND:20181121T230000Z
X-MICROSOFT-CDO-ALLDAYEVENT:FALSE
SUMMARY:Thanksgiving Art Camp
DESCRIPTION:This event is geared for ages 3-12. Children will make fall related art and learn about holiday traditions. Half day sessions are $75 and full day sessions are $135. Full day campers will need to bring a lunch. Afternoon movies will be played to break up the day. Please register at https://oxfordarts.com/shop or call the Arts Council at 662-236-6429.
X-ALT-DESC;FMTTYPE=text/html:This event is geared for ages 3-12. Children will make fall related art and learn about holiday traditions. Half day sessions are $75 and full day sessions are $135. Full day campers will need to bring a lunch. Afternoon movies will be played to break up the day. Please register at https://oxfordarts.com/shop or call the Arts Council at 662-236-6429.
LOCATION:This event will take place at the Powerhouse.
UID:e.1330.2859
SEQUENCE:3
DTSTAMP:20260424T224739Z
URL:https://business.oxfordms.com/events/details/thanksgiving-art-camp-11-19-2018-2859
END:VEVENT

END:VCALENDAR
