BEGIN:VCALENDAR
VERSION:2.0
PRODID:-//ChamberMaster//Event Calendar 2.0//EN
METHOD:PUBLISH
X-PUBLISHED-TTL:P3D
REFRESH-INTERVAL:P3D
CALSCALE:GREGORIAN
BEGIN:VEVENT
DTSTART:20171115T000000Z
DTEND:20171115T020000Z
X-MICROSOFT-CDO-ALLDAYEVENT:FALSE
SUMMARY:The Biggest\, Baddest Art Show
DESCRIPTION:Oxford Artists' Guild annual Biggest\, Baddest Art Show is now in progress at the Powerhouse.  The show will exhibit starting November 7th until December 18th. Works may be viewed Monday through Friday from 9 until 5 or after hours during special events.\n\n \n\nPlease join us for a meet the artists' reception on Tuesday\, November 14th from 6-8.  Refreshments will be served.\n\n \n\nWinners from the juried show will be announced and all attendees will have the chance to vote for their favorite piece.\n\n \n\nThe public is invited to attend.
X-ALT-DESC;FMTTYPE=text/html:<div>Oxford Artists&#39\; Guild annual Biggest\, Baddest Art Show is now in progress at the Powerhouse.&nbsp\; The show will exhibit starting November 7th until December 18th.&nbsp\;Works may be viewed Monday through Friday from 9 until 5 or after hours during special events.</div>\n\n<div>&nbsp\;</div>\n\n<div>Please join us for a meet the artists&#39\; reception on Tuesday\, November 14th from 6-8.&nbsp\; Refreshments will be served.</div>\n\n<div>&nbsp\;</div>\n\n<div>Winners from the juried show will be announced and all attendees will have the chance to vote for their favorite piece.<br />\n&nbsp\;</div>\n\n<div>The public is invited to attend.</div>\n
LOCATION:The Powerhouse
UID:e.1330.1839
SEQUENCE:3
DTSTAMP:20260425T165616Z
URL:https://business.oxfordms.com/events/details/the-biggest-baddest-art-show-11-14-2017-1839
END:VEVENT

END:VCALENDAR
