BEGIN:VCALENDAR
VERSION:2.0
PRODID:-//ChamberMaster//Event Calendar 2.0//EN
METHOD:PUBLISH
X-PUBLISHED-TTL:P3D
REFRESH-INTERVAL:P3D
CALSCALE:GREGORIAN
BEGIN:VEVENT
DTSTART:20190515T163000Z
DTEND:20190515T180000Z
X-MICROSOFT-CDO-ALLDAYEVENT:FALSE
SUMMARY:The Chamber of Commerce and Economic Development Foundation's Annual Meeting
DESCRIPTION:Join the Oxford-Lafayette County Chamber of Commerce and Economic Development Foundation on May 15th at 11:30 am as we celebrate another fabulous year of service to the community at the Inn at Ole Miss. A recap of the year will be presented along with community service awards.
X-ALT-DESC;FMTTYPE=text/html:Join the Oxford-Lafayette County Chamber of Commerce and Economic Development Foundation on May 15th at 11:30 am as we celebrate another fabulous year of service to the community at the Inn at Ole Miss. A recap of the year will be presented along with community service awards.
LOCATION:The Inn at Ole Miss 120 Alumni Drive Oxford\, Mississippi 38655
UID:e.1330.3083
SEQUENCE:3
DTSTAMP:20260424T103933Z
URL:https://business.oxfordms.com/events/details/the-chamber-of-commerce-and-economic-development-foundation-s-annual-meeting-05-15-2019-3083
END:VEVENT

END:VCALENDAR
