BEGIN:VCALENDAR
VERSION:2.0
PRODID:-//ChamberMaster//Event Calendar 2.0//EN
METHOD:PUBLISH
X-PUBLISHED-TTL:P3D
REFRESH-INTERVAL:P3D
CALSCALE:GREGORIAN
BEGIN:VEVENT
DTSTART:20180130T220000Z
DTEND:20180130T223000Z
X-MICROSOFT-CDO-ALLDAYEVENT:FALSE
SUMMARY:The Chancellor's House celebrates their One Year Anniversay with a Ribbon Cutting Ceremony!
DESCRIPTION:The Chancellor's House will celebrate the one year anniversary of their business in Oxford with a Ribbon Cutting Ceremony hosted by the Oxford-Lafayette County Chamber. The Chancellor's House is an ideal location downtown to celebrate a special occasion in the Grill\, unwind in style at the Lounge Bar\, or enjoy a gourmet brunch with family on the weekends. Reservations or walk-ins welcome.
X-ALT-DESC;FMTTYPE=text/html:<span style="color:#231F20\;"><span style="font-family:helvetica\,sans-serif\;"><span style="font-size:11.0pt\;">The Chancellor&#39\;s House will celebrate the one year anniversary of their business in Oxford with a&nbsp\;Ribbon Cutting Ceremony hosted by the Oxford-Lafayette County Chamber. The Chancellor&#39\;s House is an ideal location downtown to celebrate a special occasion in the Grill\, unwind in style at the Lounge Bar\, or enjoy a gourmet brunch with family on the weekends. Reservations or walk-ins welcome.&nbsp\;</span></span></span>
LOCATION:425 S Lamar Blvd\, Oxford\, MS 38655
UID:e.1330.1857
SEQUENCE:3
DTSTAMP:20260425T133713Z
URL:https://business.oxfordms.com/events/details/the-chancellor-s-house-celebrates-their-one-year-anniversay-with-a-ribbon-cutting-ceremony-01-30-2018-1857
END:VEVENT

END:VCALENDAR
