BEGIN:VCALENDAR
VERSION:2.0
PRODID:-//ChamberMaster//Event Calendar 2.0//EN
METHOD:PUBLISH
X-PUBLISHED-TTL:P3D
REFRESH-INTERVAL:P3D
CALSCALE:GREGORIAN
BEGIN:VEVENT
DTSTART:20170426T093000Z
DTEND:20170426T220000Z
X-MICROSOFT-CDO-ALLDAYEVENT:FALSE
SUMMARY:The Oaks on East Jackson Ribbon Cutting Ceremony
DESCRIPTION:The Oaks of East Jackson will celebrate their new condominiums in Oxford with a Ribbon Cutting Ceremony hosted by the Oxford-Lafayette County Chamber of Commerce.\n\n\n\nThe Oaks of East Jackson is located three blocks from Oxford's historic Town Square\, The Oaks offers a luxurious condo home lifestyle at an exclusive Jackson Ave. East location. Three-bedroom and two-bedroom condos are available.
X-ALT-DESC;FMTTYPE=text/html:<span style="font-size:12px\;"><span style="font-family:arial\;">The Oaks of East Jackson will celebrate their new condominiums in Oxford with a Ribbon Cutting Ceremony hosted by the Oxford-Lafayette County Chamber of Commerce.<br />\n<br />\n<span style="color: rgb(68\, 68\, 68)\; background-color: rgb(255\, 255\, 255)\;">The Oaks of East Jackson is located three blocks from Oxford&#39\;s historic Town Square\, The Oaks offers a luxurious condo home lifestyle at an exclusive Jackson Ave. East location. Three-bedroom and two-bedroom condos are available.</span></span></span>
LOCATION:1740 East Jackson
UID:e.1330.1517
SEQUENCE:3
DTSTAMP:20260426T041814Z
URL:https://business.oxfordms.com/events/details/the-oaks-on-east-jackson-ribbon-cutting-ceremony-04-26-2017-1517
END:VEVENT

END:VCALENDAR
