BEGIN:VCALENDAR
VERSION:2.0
PRODID:-//ChamberMaster//Event Calendar 2.0//EN
METHOD:PUBLISH
X-PUBLISHED-TTL:P3D
REFRESH-INTERVAL:P3D
CALSCALE:GREGORIAN
BEGIN:VEVENT
DTSTART:20170410T163000Z
DTEND:20170410T170000Z
X-MICROSOFT-CDO-ALLDAYEVENT:FALSE
SUMMARY:the Spaw by Homeward Bound Ribbon Cutting Ceremony
DESCRIPTION:Homeward Bound will celebrate their new pet spa business in Oxford with  a Ribbon Cutting Ceremony hosted by the Oxford-Lafayette County Chamber.\n\nThe Homeward Bound team is committed to the mental\, physical\, and emotional well-being of the pets under their care and delivering exceptional pet care and client service. They will ensure a safe and secure environment\, treat every animal with respect and kindness\, and maintain client privacy\, security\, and confidentiality.
X-ALT-DESC;FMTTYPE=text/html:Homeward Bound&nbsp\;will celebrate their&nbsp\;new pet spa business in Oxford with &nbsp\;a Ribbon Cutting Ceremony hosted by the Oxford-Lafayette County Chamber.<br />\nThe Homeward&nbsp\;Bound&nbsp\;team is committed to the mental\, physical\, and emotional well-being of the pets under their care and delivering exceptional pet care and client service.&nbsp\;They will&nbsp\;ensure a&nbsp\;safe and secure environment\, treat every animal with respect and&nbsp\;kindness\, and maintain&nbsp\;client privacy\, security\, and confidentiality.
LOCATION:426 S. Lamar Blvd. #6 Located across from the Chancellors House
UID:e.1330.1507
SEQUENCE:3
DTSTAMP:20260426T041910Z
URL:https://business.oxfordms.com/events/details/the-spaw-by-homeward-bound-ribbon-cutting-ceremony-04-10-2017-1507
END:VEVENT

END:VCALENDAR
