BEGIN:VCALENDAR
VERSION:2.0
PRODID:-//ChamberMaster//Event Calendar 2.0//EN
METHOD:PUBLISH
X-PUBLISHED-TTL:P3D
REFRESH-INTERVAL:P3D
CALSCALE:GREGORIAN
BEGIN:VEVENT
DTSTART:20180906T200000Z
DTEND:20180907T000000Z
X-MICROSOFT-CDO-ALLDAYEVENT:FALSE
SUMMARY:The Studio Grand Opening & Ribbon Cutting Ceremony
DESCRIPTION:The Studio will celebrate their new business in Oxford with a Grand Opening & Ribbon Cutting Ceremony hosted by the Oxford-Lafayette County Chamber.\n\n\n\nSarah Kate Purvis owner of The Studio is an Independent Master Cosmetologist and has been in the industry for over ten years now. She is Redken Specialist\, Redken Haircolor Authority\, and a Redken Certified Haircolorist. In addition\, In addition to hair color and cutting services\, The Studio will provide many spa services such as\, waxing\, both natural and artificial nail services\, eyelash tinting and extensions\, and spray tans.
X-ALT-DESC;FMTTYPE=text/html:The Studio&nbsp\;will celebrate their&nbsp\;new business&nbsp\;in Oxford with a&nbsp\;Grand Opening &amp\; Ribbon Cutting Ceremony hosted by the Oxford-Lafayette County Chamber.<br />\n<br />\nSarah Kate Purvis owner of The Studio is an Independent Master Cosmetologist&nbsp\;and has&nbsp\;been in the industry for over ten years now.&nbsp\;She is Redken Specialist\, Redken Haircolor Authority\, and a Redken Certified Haircolorist.&nbsp\;In addition\, In addition to hair color and cutting services\, The Studio will provide many spa services such as\, waxing\, both natural and artificial nail services\, eyelash tinting and extensions\, and spray tans.<br />\n&nbsp\;
LOCATION:1417 University Ave.
UID:e.1330.2780
SEQUENCE:3
DTSTAMP:20260425T005305Z
URL:https://business.oxfordms.com/events/details/the-studio-grand-opening-ribbon-cutting-ceremony-09-06-2018-2780
END:VEVENT

END:VCALENDAR
