BEGIN:VCALENDAR
VERSION:2.0
PRODID:-//ChamberMaster//Event Calendar 2.0//EN
METHOD:PUBLISH
X-PUBLISHED-TTL:P3D
REFRESH-INTERVAL:P3D
CALSCALE:GREGORIAN
BEGIN:VEVENT
DTSTART:20190912T200000Z
DTEND:20190912T203000Z
X-MICROSOFT-CDO-ALLDAYEVENT:FALSE
SUMMARY:The White Studio Grand Opening & Ribbon Cutting Ceremony
DESCRIPTION:The White Studio will celebrate their new business in Oxford with a Grand Opening & Ribbon Cutting Ceremony hosted by the Oxford-Lafayette County Chamber of Commerce. The White Studio\, located in Oxford\, Mississippi is a 550 square foot space with endless potential. They welcome Photographers\, Videographers\, Brides\, Event Enthusiast\, Birthday gurus... actually anyone & everyone.
X-ALT-DESC;FMTTYPE=text/html:The White Studio will celebrate their&nbsp\;new business in Oxford with&nbsp\;a Grand Opening &amp\; Ribbon Cutting Ceremony hosted by the Oxford-Lafayette County Chamber of Commerce.&nbsp\;<span style="font-size:12px\;"><span style="font-family:arial\;"><span style="caret-color: rgb(28\, 30\, 33)\; color: rgb(28\, 30\, 33)\; background-color: rgb(255\, 255\, 255)\;">The White Studio\, located in Oxford\, Mississippi is a 550 square foot space with endless potential. They welcome Photographers\, Videographers\, Brides\, Event Enthusiast\, Birthday gurus... actually anyone &amp\; everyone.&nbsp\;</span></span></span>
LOCATION:1415 University Ave.\, Oxford
UID:e.1330.3125
SEQUENCE:3
DTSTAMP:20260424T035111Z
URL:https://business.oxfordms.com/events/details/the-white-studio-grand-opening-ribbon-cutting-ceremony-09-12-2019-3125
END:VEVENT

END:VCALENDAR
