BEGIN:VCALENDAR
VERSION:2.0
PRODID:-//ChamberMaster//Event Calendar 2.0//EN
METHOD:PUBLISH
X-PUBLISHED-TTL:P3D
REFRESH-INTERVAL:P3D
CALSCALE:GREGORIAN
BEGIN:VEVENT
DTSTART:20190323T200000Z
DTEND:20190323T230000Z
X-MICROSOFT-CDO-ALLDAYEVENT:FALSE
SUMMARY:Theatre Oxford Community Party
DESCRIPTION:Theatre Oxford wants you to know that we are alive and well\, but we miss y'all! So we would like to invite you to a party. We want to hear your ideas or complaints\, plus any play recommendations for future productions. We need your input to make this a true community theater. Please consider joining us for food\, fun\, and discussion. You have a say in our future. P.S. Kids are welcome! It's a casual\, family-friendly get-together. LOCATION: 131 Mulberry Lane off Sisk\, across from the high school.
X-ALT-DESC;FMTTYPE=text/html:Theatre Oxford wants you to know that we are alive and well\, but we miss y&rsquo\;all! So we would like to invite you to a party. We want to hear your ideas or complaints\, plus any play recommendations for future productions. We need your input to make this a true community theater. Please consider joining us for food\, fun\, and discussion. You have a say in our future. P.S. Kids are welcome! It&#39\;s a casual\, family-friendly get-together. LOCATION: 131 Mulberry Lane&mdash\;off Sisk\, across from the high school.
LOCATION:131 Mulberry Lane off Sisk\, across from the high school.
UID:e.1330.3097
SEQUENCE:3
DTSTAMP:20260424T144801Z
URL:https://business.oxfordms.com/events/details/theatre-oxford-community-party-03-23-2019-3097
END:VEVENT

END:VCALENDAR
