BEGIN:VCALENDAR
VERSION:2.0
PRODID:-//ChamberMaster//Event Calendar 2.0//EN
METHOD:PUBLISH
X-PUBLISHED-TTL:P3D
REFRESH-INTERVAL:P3D
CALSCALE:GREGORIAN
BEGIN:VEVENT
DTSTART:20171116T173000Z
DTEND:20171116T180000Z
X-MICROSOFT-CDO-ALLDAYEVENT:FALSE
SUMMARY:Thrifty Building Supply Ribbon Cutting Ceremony
DESCRIPTION:Thrifty Building Supply will celebrate their new business in Oxford with a Ribbon Cutting Ceremony hosted by the Oxford-Lafayette County Chamber.Thrifty Building Supply is Oxford's newest building supply store offering windows\, doors\, and other specialty products.
X-ALT-DESC;FMTTYPE=text/html:Thrifty Building Supply&nbsp\;will celebrate their&nbsp\;new business&nbsp\;in Oxford with a&nbsp\;Ribbon Cutting Ceremony hosted by the Oxford-Lafayette County Chamber.Thrifty Building Supply is Oxford&#39\;s newest building supply store offering windows\, doors\, and other&nbsp\;specialty products.
LOCATION:670 Hwy 6 West\, Oxford\, MS
UID:e.1330.1838
SEQUENCE:3
DTSTAMP:20260425T165754Z
URL:https://business.oxfordms.com/events/details/thrifty-building-supply-ribbon-cutting-ceremony-11-16-2017-1838
END:VEVENT

END:VCALENDAR
