BEGIN:VCALENDAR
VERSION:2.0
PRODID:-//ChamberMaster//Event Calendar 2.0//EN
METHOD:PUBLISH
X-PUBLISHED-TTL:P3D
REFRESH-INTERVAL:P3D
CALSCALE:GREGORIAN
BEGIN:VEVENT
DTSTART:20171212T170000Z
DTEND:20171212T173000Z
X-MICROSOFT-CDO-ALLDAYEVENT:FALSE
SUMMARY:TRU Groundbreaking Ceremony
DESCRIPTION:TRU will celebrate their new business in Oxford with a Groundbreaking Ceremony hosted by the Oxford-Lafayette County Chamber. TRU by Hilton Oxford will provide guests with smart and efficently designed guest rooms and re-imagined public spaces.
X-ALT-DESC;FMTTYPE=text/html:TRU will celebrate their&nbsp\;new business&nbsp\;in Oxford with a Groundbreaking Ceremony hosted by the Oxford-Lafayette County Chamber. TRU by Hilton Oxford will provide guests with smart and efficently designed guest rooms and re-imagined public spaces.<br />\n&nbsp\;
LOCATION:97 Ed Perry Blvd.\, Oxford\, MS Please park at Hampton Conference Center and TownePlace Suites and you will be shuttled to site.
UID:e.1330.1844
SEQUENCE:3
DTSTAMP:20260425T150345Z
URL:https://business.oxfordms.com/events/details/tru-groundbreaking-ceremony-12-12-2017-1844
END:VEVENT

END:VCALENDAR
