BEGIN:VCALENDAR
VERSION:2.0
PRODID:-//ChamberMaster//Event Calendar 2.0//EN
METHOD:PUBLISH
X-PUBLISHED-TTL:P3D
REFRESH-INTERVAL:P3D
CALSCALE:GREGORIAN
BEGIN:VEVENT
DTSTART:20181201T190000Z
DTEND:20181201T210000Z
X-MICROSOFT-CDO-ALLDAYEVENT:FALSE
SUMMARY:Ugly Christmas Sweater Ornament Making Art Truck at the Holiday Art Market
DESCRIPTION:Come visit the market\, make an ugly sweater ornament for your tree and take familly photos. We encourage participants to wear their ugliest Christmas sweaters and attire for this fun make-and-take-it project. This event is free to children and their families.
X-ALT-DESC;FMTTYPE=text/html:Come visit the market\, make an ugly sweater ornament for your tree and take familly photos. We encourage participants to wear their ugliest Christmas sweaters and attire for this fun make-and-take-it project. This event is free to children and their families.&nbsp\;
LOCATION:This event will take place at the Powerhouse.
UID:e.1330.2855
SEQUENCE:3
DTSTAMP:20260424T192717Z
URL:https://business.oxfordms.com/events/details/ugly-christmas-sweater-ornament-making-art-truck-at-the-holiday-art-market-12-01-2018-2855
END:VEVENT

END:VCALENDAR
