BEGIN:VCALENDAR
VERSION:2.0
PRODID:-//ChamberMaster//Event Calendar 2.0//EN
METHOD:PUBLISH
X-PUBLISHED-TTL:P3D
REFRESH-INTERVAL:P3D
CALSCALE:GREGORIAN
BEGIN:VEVENT
DTSTART:20180425T050000Z
DTEND:20180425T180000Z
X-MICROSOFT-CDO-ALLDAYEVENT:FALSE
SUMMARY:WEEKLY KIWANIS MEETING
DESCRIPTION:includes lunch and a local program speaker
X-ALT-DESC;FMTTYPE=text/html:<span style="font-size: 14px\;"><span style="color: rgb(0\, 0\, 255)\;"><strong>includes lunch and a local program speaker</strong></span></span>
LOCATION:Oxford University Club\, 300 North Lamar
UID:e.1330.500
SEQUENCE:3
DTSTAMP:20260425T105421Z
URL:https://business.oxfordms.com/events/details/weekly-kiwanis-meeting-04-25-2018-500
END:VEVENT

END:VCALENDAR
