BEGIN:VCALENDAR
VERSION:2.0
PRODID:-//ChamberMaster//Event Calendar 2.0//EN
METHOD:PUBLISH
X-PUBLISHED-TTL:P3D
REFRESH-INTERVAL:P3D
CALSCALE:GREGORIAN
BEGIN:VEVENT
DTSTART:20151007T050000Z
DTEND:20151007T180000Z
X-MICROSOFT-CDO-ALLDAYEVENT:FALSE
SUMMARY:WEEKLY KIWANIS MEETING
DESCRIPTION:includes lunch and a local program speaker
X-ALT-DESC;FMTTYPE=text/html:<span style="font-size: 14px\;"><span style="color: rgb(0\, 0\, 255)\;"><strong>includes lunch and a local program speaker</strong></span></span>
LOCATION:Oxford University Club\, 300 North Lamar
UID:e.1330.367
SEQUENCE:3
DTSTAMP:20260424T054916Z
URL:https://business.oxfordms.com/events/details/weekly-kiwanis-meeting-10-07-2015-367
END:VEVENT

END:VCALENDAR
