BEGIN:VCALENDAR
VERSION:2.0
PRODID:-//ChamberMaster//Event Calendar 2.0//EN
METHOD:PUBLISH
X-PUBLISHED-TTL:P3D
REFRESH-INTERVAL:P3D
CALSCALE:GREGORIAN
BEGIN:VEVENT
DTSTART:20180209T173000Z
DTEND:20180209T180000Z
X-MICROSOFT-CDO-ALLDAYEVENT:FALSE
SUMMARY:Will Poole State Farm Insurance Ribbon Cutting Ceremony
DESCRIPTION:Will Poole State Farm Insurance will celebrate their new business in Oxford with a Ribbon Cutting Ceremony hosted by the Oxford-Lafayette County Chamber. At State Farm our mission is to help people manage the risks of everyday life\, recover from the unexpected and realize their dreams.
X-ALT-DESC;FMTTYPE=text/html:<span style="font-size:14px\;"><span style="font-family: arial\;">Will Poole State Farm Insurance will celebrate their&nbsp\;new business&nbsp\;in Oxford with a&nbsp\;Ribbon Cutting Ceremony hosted by the Oxford-Lafayette County Chamber. At State Farm our mission is to help people manage the risks of everyday life\, recover from the unexpected and realize their dreams. </span></span>
LOCATION:1601 Jackson Ave. West
UID:e.1330.1859
SEQUENCE:3
DTSTAMP:20260425T120709Z
URL:https://business.oxfordms.com/events/details/will-poole-state-farm-insurance-ribbon-cutting-ceremony-02-09-2018-1859
END:VEVENT

END:VCALENDAR
